Package: ggseqalign Version: 1.1.0 Command: /home/biocbuild/R/R/bin/R CMD INSTALL ggseqalign StartedAt: 2025-01-29 19:39:12 -0000 (Wed, 29 Jan 2025) EndedAt: 2025-01-29 19:39:27 -0000 (Wed, 29 Jan 2025) EllapsedTime: 15.7 seconds RetCode: 0 Status: OK