Package: ggseqalign Version: 1.1.0 Command: /Library/Frameworks/R.framework/Resources/bin/R CMD check --install=check:ggseqalign.install-out.txt --library=/Library/Frameworks/R.framework/Resources/library --no-vignettes --timings ggseqalign_1.1.0.tar.gz StartedAt: 2025-02-09 21:02:07 -0500 (Sun, 09 Feb 2025) EndedAt: 2025-02-09 21:03:45 -0500 (Sun, 09 Feb 2025) EllapsedTime: 97.5 seconds RetCode: 0 Status: OK CheckDir: ggseqalign.Rcheck Warnings: 0