Package: ggseqalign Version: 1.1.0 Command: /home/biocbuild/bbs-3.21-bioc/R/bin/R CMD check --install=check:ggseqalign.install-out.txt --library=/home/biocbuild/bbs-3.21-bioc/R/site-library --timings ggseqalign_1.1.0.tar.gz StartedAt: 2025-02-09 22:45:47 -0500 (Sun, 09 Feb 2025) EndedAt: 2025-02-09 22:47:27 -0500 (Sun, 09 Feb 2025) EllapsedTime: 100.2 seconds RetCode: 0 Status: OK CheckDir: ggseqalign.Rcheck Warnings: 0