Package: ggseqalign Version: 1.1.0 Command: E:\biocbuild\bbs-3.21-bioc\R\bin\R.exe CMD check --no-multiarch --install=check:ggseqalign.install-out.txt --library=E:\biocbuild\bbs-3.21-bioc\R\library --no-vignettes --timings ggseqalign_1.1.0.tar.gz StartedAt: 2025-02-13 01:46:08 -0500 (Thu, 13 Feb 2025) EndedAt: 2025-02-13 01:47:56 -0500 (Thu, 13 Feb 2025) EllapsedTime: 107.5 seconds RetCode: 0 Status: OK CheckDir: ggseqalign.Rcheck Warnings: 0