Package: ggseqalign Version: 1.1.0 Command: E:\biocbuild\bbs-3.21-bioc\R\bin\R.exe CMD INSTALL ggseqalign StartedAt: 2025-02-12 15:41:54 -0500 (Wed, 12 Feb 2025) EndedAt: 2025-02-12 15:42:13 -0500 (Wed, 12 Feb 2025) EllapsedTime: 19.7 seconds RetCode: 0 Status: OK