Package: ggspavis Version: 1.13.0 Command: rm -rf ggspavis.buildbin-libdir && mkdir ggspavis.buildbin-libdir && /Users/biocbuild/BBS/utils/build-universal.sh ggspavis_1.13.0.tar.gz /Library/Frameworks/R.framework/Resources/bin/R ggspavis.buildbin-libdir StartedAt: 2025-02-09 22:16:11 -0500 (Sun, 09 Feb 2025) EndedAt: 2025-02-09 22:16:24 -0500 (Sun, 09 Feb 2025) EllapsedTime: 12.2 seconds RetCode: 0 Status: OK PackageFile: ggspavis_1.13.0.tgz PackageFileSize: 6.874 MiB