Package: ggspavis Version: 1.13.0 Command: /Library/Frameworks/R.framework/Resources/bin/R CMD INSTALL ggspavis StartedAt: 2025-02-03 15:43:50 -0500 (Mon, 03 Feb 2025) EndedAt: 2025-02-03 15:44:01 -0500 (Mon, 03 Feb 2025) EllapsedTime: 10.9 seconds RetCode: 0 Status: OK