Package: ggspavis Version: 1.13.0 Command: /home/biocbuild/R/R/bin/R CMD build --keep-empty-dirs --no-resave-data ggspavis StartedAt: 2025-01-28 23:13:19 -0000 (Tue, 28 Jan 2025) EndedAt: 2025-01-28 23:15:24 -0000 (Tue, 28 Jan 2025) EllapsedTime: 125.1 seconds RetCode: 0 Status: OK PackageFile: ggspavis_1.13.0.tar.gz PackageFileSize: 2.266 MiB