Package: ggspavis Version: 1.13.0 Command: /home/biocbuild/R/R/bin/R CMD INSTALL ggspavis StartedAt: 2025-01-29 19:49:36 -0000 (Wed, 29 Jan 2025) EndedAt: 2025-01-29 19:50:10 -0000 (Wed, 29 Jan 2025) EllapsedTime: 33.6 seconds RetCode: 0 Status: OK