Package: ggspavis Version: 1.13.0 Command: /Library/Frameworks/R.framework/Resources/bin/R CMD check --install=check:ggspavis.install-out.txt --library=/Library/Frameworks/R.framework/Resources/library --no-vignettes --timings ggspavis_1.13.0.tar.gz StartedAt: 2025-02-09 21:02:23 -0500 (Sun, 09 Feb 2025) EndedAt: 2025-02-09 21:06:58 -0500 (Sun, 09 Feb 2025) EllapsedTime: 274.2 seconds RetCode: 0 Status: OK CheckDir: ggspavis.Rcheck Warnings: 0