Package: ggspavis Version: 1.13.0 Command: /home/biocbuild/bbs-3.21-bioc/R/bin/R CMD INSTALL ggspavis StartedAt: 2025-02-03 15:32:52 -0500 (Mon, 03 Feb 2025) EndedAt: 2025-02-03 15:33:18 -0500 (Mon, 03 Feb 2025) EllapsedTime: 26.7 seconds RetCode: 0 Status: OK