Package: ggspavis Version: 1.13.0 Command: rm -rf ggspavis.buildbin-libdir && mkdir ggspavis.buildbin-libdir && E:\biocbuild\bbs-3.21-bioc\R\bin\R.exe CMD INSTALL --build --library=ggspavis.buildbin-libdir ggspavis_1.13.0.tar.gz StartedAt: 2025-02-10 07:51:17 -0500 (Mon, 10 Feb 2025) EndedAt: 2025-02-10 07:51:50 -0500 (Mon, 10 Feb 2025) EllapsedTime: 32.4 seconds RetCode: 0 Status: OK PackageFile: ggspavis_1.13.0.zip PackageFileSize: 2.975 MiB