Package: ggspavis Version: 1.13.0 Command: chmod a+r ggspavis -R && E:\biocbuild\bbs-3.21-bioc\R\bin\R.exe CMD build --keep-empty-dirs --no-resave-data ggspavis StartedAt: 2025-02-03 19:10:53 -0500 (Mon, 03 Feb 2025) EndedAt: 2025-02-03 19:13:08 -0500 (Mon, 03 Feb 2025) EllapsedTime: 135.0 seconds RetCode: 0 Status: OK PackageFile: ggspavis_1.13.0.tar.gz PackageFileSize: 2.923 MiB