Package: ggtree Version: 3.15.0 Command: /home/biocbuild/R/R/bin/R CMD INSTALL ggtree StartedAt: 2025-01-29 19:59:50 -0000 (Wed, 29 Jan 2025) EndedAt: 2025-01-29 20:00:05 -0000 (Wed, 29 Jan 2025) EllapsedTime: 14.5 seconds RetCode: 0 Status: OK