Package: ggtree Version: 3.15.0 Command: /Library/Frameworks/R.framework/Resources/bin/R CMD check --install=check:ggtree.install-out.txt --library=/Library/Frameworks/R.framework/Resources/library --no-vignettes --timings ggtree_3.15.0.tar.gz StartedAt: 2025-02-12 20:50:27 -0500 (Wed, 12 Feb 2025) EndedAt: 2025-02-12 20:51:47 -0500 (Wed, 12 Feb 2025) EllapsedTime: 80.3 seconds RetCode: 0 Status: OK CheckDir: ggtree.Rcheck Warnings: 0