Package: ggtree Version: 3.15.0 Command: /Library/Frameworks/R.framework/Resources/bin/R CMD INSTALL ggtree StartedAt: 2025-02-09 15:14:52 -0500 (Sun, 09 Feb 2025) EndedAt: 2025-02-09 15:15:08 -0500 (Sun, 09 Feb 2025) EllapsedTime: 15.9 seconds RetCode: 0 Status: OK