Package: ggtree Version: 3.15.0 Command: rm -rf ggtree.buildbin-libdir && mkdir ggtree.buildbin-libdir && E:\biocbuild\bbs-3.21-bioc\R\bin\R.exe CMD INSTALL --build --library=ggtree.buildbin-libdir ggtree_3.15.0.tar.gz StartedAt: 2025-02-10 07:51:19 -0500 (Mon, 10 Feb 2025) EndedAt: 2025-02-10 07:52:50 -0500 (Mon, 10 Feb 2025) EllapsedTime: 90.8 seconds RetCode: 0 Status: OK PackageFile: ggtree_3.15.0.zip PackageFileSize: 897.1 KiB