Package: ggtree Version: 3.15.0 Command: chmod a+r ggtree -R && E:\biocbuild\bbs-3.21-bioc\R\bin\R.exe CMD build --keep-empty-dirs --no-resave-data ggtree StartedAt: 2025-02-12 19:03:40 -0500 (Wed, 12 Feb 2025) EndedAt: 2025-02-12 19:04:36 -0500 (Wed, 12 Feb 2025) EllapsedTime: 56.9 seconds RetCode: 0 Status: OK PackageFile: ggtree_3.15.0.tar.gz PackageFileSize: 353.4 KiB