Package: ggtreeDendro Version: 1.9.0 Command: /Library/Frameworks/R.framework/Resources/bin/R CMD INSTALL ggtreeDendro StartedAt: 2025-02-03 15:47:52 -0500 (Mon, 03 Feb 2025) EndedAt: 2025-02-03 15:47:55 -0500 (Mon, 03 Feb 2025) EllapsedTime: 2.8 seconds RetCode: 0 Status: OK