Package: ggtreeDendro Version: 1.9.0 Command: /home/biocbuild/R/R/bin/R CMD build --keep-empty-dirs --no-resave-data ggtreeDendro StartedAt: 2025-01-28 23:13:35 -0000 (Tue, 28 Jan 2025) EndedAt: 2025-01-28 23:13:58 -0000 (Tue, 28 Jan 2025) EllapsedTime: 23.0 seconds RetCode: 0 Status: OK PackageFile: ggtreeDendro_1.9.0.tar.gz PackageFileSize: 181.9 KiB