Package: ggtreeDendro Version: 1.9.0 Command: /home/biocbuild/R/R/bin/R CMD INSTALL ggtreeDendro StartedAt: 2025-01-29 20:00:08 -0000 (Wed, 29 Jan 2025) EndedAt: 2025-01-29 20:00:15 -0000 (Wed, 29 Jan 2025) EllapsedTime: 7.1 seconds RetCode: 0 Status: OK