Package: ggtreeDendro Version: 1.9.0 Command: /Library/Frameworks/R.framework/Resources/bin/R CMD build --keep-empty-dirs --no-resave-data ggtreeDendro StartedAt: 2025-02-09 16:55:31 -0500 (Sun, 09 Feb 2025) EndedAt: 2025-02-09 16:55:49 -0500 (Sun, 09 Feb 2025) EllapsedTime: 18.3 seconds RetCode: 0 Status: OK PackageFile: ggtreeDendro_1.9.0.tar.gz PackageFileSize: 408.3 KiB