Package: ggtreeDendro Version: 1.9.0 Command: /Library/Frameworks/R.framework/Resources/bin/R CMD check --install=check:ggtreeDendro.install-out.txt --library=/Library/Frameworks/R.framework/Resources/library --no-vignettes --timings ggtreeDendro_1.9.0.tar.gz StartedAt: 2025-02-03 20:51:10 -0500 (Mon, 03 Feb 2025) EndedAt: 2025-02-03 20:52:02 -0500 (Mon, 03 Feb 2025) EllapsedTime: 51.5 seconds RetCode: 0 Status: WARNINGS CheckDir: ggtreeDendro.Rcheck Warnings: 1