Package: ggtreeDendro Version: 1.9.0 Command: /Library/Frameworks/R.framework/Resources/bin/R CMD INSTALL ggtreeDendro StartedAt: 2025-02-09 15:15:34 -0500 (Sun, 09 Feb 2025) EndedAt: 2025-02-09 15:15:44 -0500 (Sun, 09 Feb 2025) EllapsedTime: 10.4 seconds RetCode: 0 Status: OK