Package: ggtreeDendro Version: 1.9.0 Command: /home/biocbuild/bbs-3.21-bioc/R/bin/R CMD build --keep-empty-dirs --no-resave-data ggtreeDendro StartedAt: 2025-02-09 17:26:19 -0500 (Sun, 09 Feb 2025) EndedAt: 2025-02-09 17:26:31 -0500 (Sun, 09 Feb 2025) EllapsedTime: 12.0 seconds RetCode: 0 Status: OK PackageFile: ggtreeDendro_1.9.0.tar.gz PackageFileSize: 428.7 KiB