Package: ggtreeDendro Version: 1.9.0 Command: /home/biocbuild/bbs-3.21-bioc/R/bin/R CMD check --install=check:ggtreeDendro.install-out.txt --library=/home/biocbuild/bbs-3.21-bioc/R/site-library --timings ggtreeDendro_1.9.0.tar.gz StartedAt: 2025-02-03 22:54:52 -0500 (Mon, 03 Feb 2025) EndedAt: 2025-02-03 22:55:38 -0500 (Mon, 03 Feb 2025) EllapsedTime: 46.1 seconds RetCode: 0 Status: WARNINGS CheckDir: ggtreeDendro.Rcheck Warnings: 1