Package: ggtreeDendro Version: 1.9.0 Command: rm -rf ggtreeDendro.buildbin-libdir && mkdir ggtreeDendro.buildbin-libdir && E:\biocbuild\bbs-3.21-bioc\R\bin\R.exe CMD INSTALL --build --library=ggtreeDendro.buildbin-libdir ggtreeDendro_1.9.0.tar.gz StartedAt: 2025-02-10 07:51:23 -0500 (Mon, 10 Feb 2025) EndedAt: 2025-02-10 07:51:56 -0500 (Mon, 10 Feb 2025) EllapsedTime: 32.7 seconds RetCode: 0 Status: OK PackageFile: ggtreeDendro_1.9.0.zip PackageFileSize: 176.4 KiB