Package: ggtreeDendro Version: 1.9.0 Command: chmod a+r ggtreeDendro -R && E:\biocbuild\bbs-3.21-bioc\R\bin\R.exe CMD build --keep-empty-dirs --no-resave-data ggtreeDendro StartedAt: 2025-02-03 19:11:04 -0500 (Mon, 03 Feb 2025) EndedAt: 2025-02-03 19:11:29 -0500 (Mon, 03 Feb 2025) EllapsedTime: 25.1 seconds RetCode: 0 Status: OK PackageFile: ggtreeDendro_1.9.0.tar.gz PackageFileSize: 148.2 KiB