Package: ggtreeDendro Version: 1.9.0 Command: E:\biocbuild\bbs-3.21-bioc\R\bin\R.exe CMD INSTALL ggtreeDendro StartedAt: 2025-02-03 15:55:30 -0500 (Mon, 03 Feb 2025) EndedAt: 2025-02-03 15:55:41 -0500 (Mon, 03 Feb 2025) EllapsedTime: 11.3 seconds RetCode: 0 Status: OK