Package: ggtreeSpace Version: 1.3.0 Command: rm -rf ggtreeSpace.buildbin-libdir && mkdir ggtreeSpace.buildbin-libdir && /Users/biocbuild/BBS/utils/build-universal.sh ggtreeSpace_1.3.0.tar.gz /Library/Frameworks/R.framework/Resources/bin/R ggtreeSpace.buildbin-libdir StartedAt: 2025-02-09 22:16:14 -0500 (Sun, 09 Feb 2025) EndedAt: 2025-02-09 22:16:20 -0500 (Sun, 09 Feb 2025) EllapsedTime: 5.1 seconds RetCode: 0 Status: OK PackageFile: ggtreeSpace_1.3.0.tgz PackageFileSize: 583.6 KiB