Package: ggtreeSpace Version: 1.3.0 Command: /Library/Frameworks/R.framework/Resources/bin/R CMD build --keep-empty-dirs --no-resave-data ggtreeSpace StartedAt: 2025-02-09 16:28:12 -0500 (Sun, 09 Feb 2025) EndedAt: 2025-02-09 16:28:19 -0500 (Sun, 09 Feb 2025) EllapsedTime: 7.1 seconds RetCode: 0 Status: OK PackageFile: ggtreeSpace_1.3.0.tar.gz PackageFileSize: 550.1 KiB