Package: ggtreeSpace Version: 1.3.0 Command: /Library/Frameworks/R.framework/Resources/bin/R CMD INSTALL ggtreeSpace StartedAt: 2025-02-09 15:14:29 -0500 (Sun, 09 Feb 2025) EndedAt: 2025-02-09 15:14:34 -0500 (Sun, 09 Feb 2025) EllapsedTime: 4.2 seconds RetCode: 0 Status: OK