Package: ggtreeSpace Version: 1.3.0 Command: rm -rf ggtreeSpace.buildbin-libdir && mkdir ggtreeSpace.buildbin-libdir && /Users/biocbuild/BBS/utils/build-universal.sh ggtreeSpace_1.3.0.tar.gz /Library/Frameworks/R.framework/Resources/bin/R ggtreeSpace.buildbin-libdir StartedAt: 2025-02-10 00:56:02 -0500 (Mon, 10 Feb 2025) EndedAt: 2025-02-10 00:56:19 -0500 (Mon, 10 Feb 2025) EllapsedTime: 16.3 seconds RetCode: 0 Status: OK PackageFile: ggtreeSpace_1.3.0.tgz PackageFileSize: 582.3 KiB