Package: ggtreeSpace Version: 1.3.0 Command: /Library/Frameworks/R.framework/Resources/bin/R CMD build --keep-empty-dirs --no-resave-data ggtreeSpace StartedAt: 2025-02-09 16:55:34 -0500 (Sun, 09 Feb 2025) EndedAt: 2025-02-09 16:55:56 -0500 (Sun, 09 Feb 2025) EllapsedTime: 21.8 seconds RetCode: 0 Status: OK PackageFile: ggtreeSpace_1.3.0.tar.gz PackageFileSize: 549.4 KiB