Package: ggtreeSpace Version: 1.3.0 Command: /Library/Frameworks/R.framework/Resources/bin/R CMD check --install=check:ggtreeSpace.install-out.txt --library=/Library/Frameworks/R.framework/Resources/library --no-vignettes --timings ggtreeSpace_1.3.0.tar.gz StartedAt: 2025-02-09 21:03:14 -0500 (Sun, 09 Feb 2025) EndedAt: 2025-02-09 21:04:42 -0500 (Sun, 09 Feb 2025) EllapsedTime: 87.8 seconds RetCode: 0 Status: WARNINGS CheckDir: ggtreeSpace.Rcheck Warnings: 1