Package: ggtreeSpace Version: 1.3.0 Command: /Library/Frameworks/R.framework/Resources/bin/R CMD INSTALL ggtreeSpace StartedAt: 2025-02-09 15:23:32 -0500 (Sun, 09 Feb 2025) EndedAt: 2025-02-09 15:23:45 -0500 (Sun, 09 Feb 2025) EllapsedTime: 13.0 seconds RetCode: 0 Status: OK