Package: ggtreeSpace Version: 1.3.0 Command: /home/biocbuild/bbs-3.21-bioc/R/bin/R CMD build --keep-empty-dirs --no-resave-data ggtreeSpace StartedAt: 2025-02-04 17:24:30 -0500 (Tue, 04 Feb 2025) EndedAt: 2025-02-04 17:24:47 -0500 (Tue, 04 Feb 2025) EllapsedTime: 17.0 seconds RetCode: 0 Status: OK PackageFile: ggtreeSpace_1.3.0.tar.gz PackageFileSize: 480.2 KiB