Package: ggtreeSpace Version: 1.3.0 Command: /home/biocbuild/bbs-3.21-bioc/R/bin/R CMD INSTALL ggtreeSpace StartedAt: 2025-02-04 15:09:03 -0500 (Tue, 04 Feb 2025) EndedAt: 2025-02-04 15:09:15 -0500 (Tue, 04 Feb 2025) EllapsedTime: 11.7 seconds RetCode: 0 Status: OK