Package: ggtreeSpace Version: 1.3.0 Command: E:\biocbuild\bbs-3.21-bioc\R\bin\R.exe CMD check --no-multiarch --install=check:ggtreeSpace.install-out.txt --library=E:\biocbuild\bbs-3.21-bioc\R\library --no-vignettes --timings ggtreeSpace_1.3.0.tar.gz StartedAt: 2025-02-10 01:36:12 -0500 (Mon, 10 Feb 2025) EndedAt: 2025-02-10 01:37:51 -0500 (Mon, 10 Feb 2025) EllapsedTime: 98.7 seconds RetCode: 0 Status: WARNINGS CheckDir: ggtreeSpace.Rcheck Warnings: 1