Package: ginmappeR Version: 1.3.3 Command: rm -rf ginmappeR.buildbin-libdir && mkdir ginmappeR.buildbin-libdir && /Users/biocbuild/BBS/utils/build-universal.sh ginmappeR_1.3.3.tar.gz /Library/Frameworks/R.framework/Resources/bin/R ginmappeR.buildbin-libdir StartedAt: 2025-02-04 22:18:08 -0500 (Tue, 04 Feb 2025) EndedAt: 2025-02-04 22:18:15 -0500 (Tue, 04 Feb 2025) EllapsedTime: 7.2 seconds RetCode: 0 Status: OK PackageFile: ginmappeR_1.3.3.tgz PackageFileSize: 676.4 KiB