Package: ginmappeR Version: 1.3.3 Command: /home/biocbuild/R/R/bin/R CMD build --keep-empty-dirs --no-resave-data ginmappeR StartedAt: 2025-01-28 23:14:03 -0000 (Tue, 28 Jan 2025) EndedAt: 2025-01-28 23:18:15 -0000 (Tue, 28 Jan 2025) EllapsedTime: 252.1 seconds RetCode: 0 Status: OK PackageFile: ginmappeR_1.3.3.tar.gz PackageFileSize: 696.8 KiB