Package: ginmappeR Version: 1.3.3 Command: rm -rf ginmappeR.buildbin-libdir && mkdir ginmappeR.buildbin-libdir && E:\biocbuild\bbs-3.21-bioc\R\bin\R.exe CMD INSTALL --build --library=ginmappeR.buildbin-libdir ginmappeR_1.3.3.tar.gz StartedAt: 2025-02-05 08:03:13 -0500 (Wed, 05 Feb 2025) EndedAt: 2025-02-05 08:04:14 -0500 (Wed, 05 Feb 2025) EllapsedTime: 61.0 seconds RetCode: 0 Status: OK PackageFile: ginmappeR_1.3.3.zip PackageFileSize: 678.7 KiB