Package: ginmappeR Version: 1.3.3 Command: E:\biocbuild\bbs-3.21-bioc\R\bin\R.exe CMD INSTALL ginmappeR StartedAt: 2025-02-04 15:59:39 -0500 (Tue, 04 Feb 2025) EndedAt: 2025-02-04 16:00:12 -0500 (Tue, 04 Feb 2025) EllapsedTime: 33.0 seconds RetCode: 0 Status: OK