Package: girafe Version: 1.59.1 Maintainer: J. Toedling MaintainerEmail: jtoedling at yahoo.de git_url: https://git.bioconductor.org/packages/girafe git_branch: devel git_last_commit: 8e02237 git_last_commit_date: 2024-11-25 08:01:14 -0500 (Mon, 25 Nov 2024)