Package: girafe Version: 1.59.1 Command: /home/biocbuild/R/R/bin/R CMD build --keep-empty-dirs --no-resave-data girafe StartedAt: 2025-01-28 23:14:18 -0000 (Tue, 28 Jan 2025) EndedAt: 2025-01-28 23:14:20 -0000 (Tue, 28 Jan 2025) EllapsedTime: 2.0 seconds RetCode: 1 Status: ERROR PackageFile: None PackageFileSize: NA