############################################################################## ############################################################################## ### ### Running command: ### ### /home/biocbuild/R/R/bin/R CMD INSTALL girafe ### ############################################################################## ############################################################################## * installing to library ‘/home/biocbuild/R/R-4.5.0-devel_2024-11-24/site-library’ * installing *source* package ‘girafe’ ... ** using staged installation ** libs using C compiler: ‘aarch64-unknown-linux-gnu-gcc (GCC) 14.2.0’ using C++ compiler: ‘aarch64-unknown-linux-gnu-g++ (GCC) 14.2.0’ /opt/ohpc/pub/compiler/gcc/14.2.0/bin/aarch64-unknown-linux-gnu-g++ -std=gnu++17 -I"/home/biocbuild/R/R/include" -DNDEBUG -I/usr/local/include -fPIC -g -O2 -Wall -Werror=format-security -DR_NO_REMAP -c coverage.cpp -o coverage.o coverage.cpp: In function ‘SEXPREC* girafe_coverage(SEXP, SEXP, SEXP, SEXP)’: coverage.cpp:44:15: error: ‘length’ was not declared in this scope 44 | int len = length(starts); | ^~~~~~ In file included from /home/biocbuild/R/R/include/Rdefines.h:41, from coverage.cpp:8: coverage.cpp:104:20: error: ‘allocVector’ was not declared in this scope; did you mean ‘Rf_allocVector’? 104 | PROTECT( res = allocVector( INTSXP, xxit * 2) ); | ^~~~~~~~~~~ /home/biocbuild/R/R/include/Rinternals.h:388:36: note: in definition of macro ‘PROTECT’ 388 | #define PROTECT(s) Rf_protect(s) | ^ make: *** [/home/biocbuild/R/R/etc/Makeconf:204: coverage.o] Error 1 ERROR: compilation failed for package ‘girafe’ * removing ‘/home/biocbuild/R/R-4.5.0-devel_2024-11-24/site-library/girafe’