Package: girafe Version: 1.59.1 Command: /home/biocbuild/bbs-3.21-bioc/R/bin/R CMD INSTALL girafe StartedAt: 2025-02-04 15:48:41 -0500 (Tue, 04 Feb 2025) EndedAt: 2025-02-04 15:48:42 -0500 (Tue, 04 Feb 2025) EllapsedTime: 1.0 seconds RetCode: 1 Status: ERROR