Package: girafe Version: 1.59.1 Command: rm -rf girafe.buildbin-libdir && mkdir girafe.buildbin-libdir && E:\biocbuild\bbs-3.21-bioc\R\bin\R.exe CMD INSTALL --build --library=girafe.buildbin-libdir girafe_1.59.1.tar.gz StartedAt: 2025-01-22 07:43:15 -0500 (Wed, 22 Jan 2025) EndedAt: 2025-01-22 07:44:42 -0500 (Wed, 22 Jan 2025) EllapsedTime: 87.0 seconds RetCode: 0 Status: OK PackageFile: girafe_1.59.1.zip PackageFileSize: 2.057 MiB