Package: girafe Version: 1.59.1 Command: chmod a+r girafe -R && E:\biocbuild\bbs-3.21-bioc\R\bin\R.exe CMD build --keep-empty-dirs --no-resave-data girafe StartedAt: 2025-02-09 18:59:51 -0500 (Sun, 09 Feb 2025) EndedAt: 2025-02-09 19:00:01 -0500 (Sun, 09 Feb 2025) EllapsedTime: 9.5 seconds RetCode: 1 Status: ERROR PackageFile: None PackageFileSize: NA