Package: girafe Version: 1.59.1 Command: E:\biocbuild\bbs-3.21-bioc\R\bin\R.exe CMD check --no-multiarch --install=check:girafe.install-out.txt --library=E:\biocbuild\bbs-3.21-bioc\R\library --no-vignettes --timings girafe_1.59.1.tar.gz StartedAt: 2025-01-22 01:40:57 -0500 (Wed, 22 Jan 2025) EndedAt: 2025-01-22 01:46:11 -0500 (Wed, 22 Jan 2025) EllapsedTime: 314.1 seconds RetCode: 0 Status: OK CheckDir: girafe.Rcheck Warnings: 0